BEGIN:VCALENDAR
VERSION:2.0
PRODID:-//Maryknoll Society - ECPv6.15.20//NONSGML v1.0//EN
CALSCALE:GREGORIAN
METHOD:PUBLISH
X-WR-CALNAME:Maryknoll Society
X-ORIGINAL-URL:https://maryknollsociety.org
X-WR-CALDESC:Events for Maryknoll Society
REFRESH-INTERVAL;VALUE=DURATION:PT1H
X-Robots-Tag:noindex
X-PUBLISHED-TTL:PT1H
BEGIN:VTIMEZONE
TZID:America/New_York
BEGIN:DAYLIGHT
TZOFFSETFROM:-0500
TZOFFSETTO:-0400
TZNAME:EDT
DTSTART:20220313T070000
END:DAYLIGHT
BEGIN:STANDARD
TZOFFSETFROM:-0400
TZOFFSETTO:-0500
TZNAME:EST
DTSTART:20221106T060000
END:STANDARD
BEGIN:DAYLIGHT
TZOFFSETFROM:-0500
TZOFFSETTO:-0400
TZNAME:EDT
DTSTART:20230312T070000
END:DAYLIGHT
BEGIN:STANDARD
TZOFFSETFROM:-0400
TZOFFSETTO:-0500
TZNAME:EST
DTSTART:20231105T060000
END:STANDARD
BEGIN:DAYLIGHT
TZOFFSETFROM:-0500
TZOFFSETTO:-0400
TZNAME:EDT
DTSTART:20240310T070000
END:DAYLIGHT
BEGIN:STANDARD
TZOFFSETFROM:-0400
TZOFFSETTO:-0500
TZNAME:EST
DTSTART:20241103T060000
END:STANDARD
END:VTIMEZONE
BEGIN:VEVENT
DTSTART;TZID=America/New_York:20231105T090000
DTEND;TZID=America/New_York:20231105T220000
DTSTAMP:20260421T114602
CREATED:20220504T190412Z
LAST-MODIFIED:20220714T140104Z
UID:41087-1699174800-1699221600@maryknollsociety.org
SUMMARY:Sunday Mass
DESCRIPTION:Join us live every Sunday\, 9am ET as we Celebrate the Holy Eucharist from the Queen of the Apostle Chapel in Maryknoll\, NY. \n			\n				Join Mass
URL:https://maryknollsociety.org/event/sunday-mass-2023-11-05/
CATEGORIES:Mass
ATTACH;FMTTYPE=image/jpeg:https://maryknollsociety.org/wp-content/uploads/2022/07/Chapel.jpg
END:VEVENT
BEGIN:VEVENT
DTSTART;TZID=America/New_York:20231112T090000
DTEND;TZID=America/New_York:20231112T220000
DTSTAMP:20260421T114602
CREATED:20220504T190412Z
LAST-MODIFIED:20220714T140105Z
UID:41088-1699779600-1699826400@maryknollsociety.org
SUMMARY:Sunday Mass
DESCRIPTION:Join us live every Sunday\, 9am ET as we Celebrate the Holy Eucharist from the Queen of the Apostle Chapel in Maryknoll\, NY. \n			\n				Join Mass
URL:https://maryknollsociety.org/event/sunday-mass-2023-11-12/
CATEGORIES:Mass
ATTACH;FMTTYPE=image/jpeg:https://maryknollsociety.org/wp-content/uploads/2022/07/Chapel.jpg
END:VEVENT
BEGIN:VEVENT
DTSTART;VALUE=DATE:20231116
DTEND;VALUE=DATE:20231117
DTSTAMP:20260421T114602
CREATED:20230831T200603Z
LAST-MODIFIED:20230831T200603Z
UID:46050-1700092800-1700179199@maryknollsociety.org
SUMMARY:A Maryknoll Family Thanksgiving
DESCRIPTION:Save The Date for A Maryknoll Family Thanksgiving Thursday\, November 16\, 2023\, Asia/Africa Rooms
URL:https://maryknollsociety.org/event/a-maryknoll-family-thanksgiving/
LOCATION:Africa
CATEGORIES:Society
ATTACH;FMTTYPE=image/jpeg:https://maryknollsociety.org/wp-content/uploads/2023/08/September-2023_Page_10_Image_0001.jpg
END:VEVENT
BEGIN:VEVENT
DTSTART;TZID=America/New_York:20231119T090000
DTEND;TZID=America/New_York:20231119T220000
DTSTAMP:20260421T114602
CREATED:20220504T190412Z
LAST-MODIFIED:20220714T140105Z
UID:41089-1700384400-1700431200@maryknollsociety.org
SUMMARY:Sunday Mass
DESCRIPTION:Join us live every Sunday\, 9am ET as we Celebrate the Holy Eucharist from the Queen of the Apostle Chapel in Maryknoll\, NY. \n			\n				Join Mass
URL:https://maryknollsociety.org/event/sunday-mass-2023-11-19/
CATEGORIES:Mass
ATTACH;FMTTYPE=image/jpeg:https://maryknollsociety.org/wp-content/uploads/2022/07/Chapel.jpg
END:VEVENT
BEGIN:VEVENT
DTSTART;TZID=America/New_York:20231126T090000
DTEND;TZID=America/New_York:20231126T220000
DTSTAMP:20260421T114602
CREATED:20220504T190412Z
LAST-MODIFIED:20220714T140108Z
UID:41090-1700989200-1701036000@maryknollsociety.org
SUMMARY:Sunday Mass
DESCRIPTION:Join us live every Sunday\, 9am ET as we Celebrate the Holy Eucharist from the Queen of the Apostle Chapel in Maryknoll\, NY. \n			\n				Join Mass
URL:https://maryknollsociety.org/event/sunday-mass-2023-11-26/
CATEGORIES:Mass
ATTACH;FMTTYPE=image/jpeg:https://maryknollsociety.org/wp-content/uploads/2022/07/Chapel.jpg
END:VEVENT
END:VCALENDAR